{
 "currentVersion": 11.2,
 "cimVersion": "3.2.0",
 "serviceDescription": "Commonwealth Electoral Divisions (CED) are an ABS approximation of Australian Electoral Commission (AEC) electoral division boundaries. An Australian Electoral Commission electoral division boundary is an area legally prescribed for the purpose of returning one member to the House of Representatives, Australia's Federal Lower House of Parliament. Boundaries are based upon the Australian Electoral Commission electoral division boundaries current on Census Night 9 August 2016. Commonwealth Electoral Divisions may change as the Australian Electoral Commission revise their boundaries. Where the Australian Electoral Commission revise their boundaries, the Commonwealth Electoral Divisions will be updated on an annual basis in July in conjunction with updates of other Non ABS Structures. Further information about these regions can be found in the following publication: Australian Statistical Geography Standard (ASGS): Volume 3 - Non ABS Structure, July 2016 (cat no. 1270.0.55.003). http://www.abs.gov.au/ausstats/abs@.nsf/mf/1270.0.55.003",
 "mapName": "Layers",
 "description": "Commonwealth Electoral Divisions (CED) are an ABS approximation of Australian Electoral Commission (AEC) electoral division boundaries. An Australian Electoral Commission electoral division boundary is an area legally prescribed for the purpose of returning one member to the House of Representatives, Australia's Federal Lower House of Parliament. Boundaries are based upon the Australian Electoral Commission electoral division boundaries current on Census Night 9 August 2016. Commonwealth Electoral Divisions may change as the Australian Electoral Commission revise their boundaries. Where the Australian Electoral Commission revise their boundaries, the Commonwealth Electoral Divisions will be updated on an annual basis in July in conjunction with updates of other Non ABS Structures. Further information about these regions can be found in the following publication: Australian Statistical Geography Standard (ASGS): Volume 3 - Non ABS Structure, July 2016 (cat no. 1270.0.55.003). http://www.abs.gov.au/ausstats/abs@.nsf/mf/1270.0.55.003",
 "copyrightText": "",
 "supportsDynamicLayers": true,
 "layers": [
  {
   "id": 0,
   "name": "CED",
   "parentLayerId": -1,
   "defaultVisibility": true,
   "subLayerIds": null,
   "minScale": 0,
   "maxScale": 0,
   "type": "Feature Layer",
   "geometryType": "esriGeometryPolygon",
   "supportsDynamicLegends": true
  },
  {
   "id": 1,
   "name": "CED_GEN",
   "parentLayerId": -1,
   "defaultVisibility": false,
   "subLayerIds": null,
   "minScale": 0,
   "maxScale": 0,
   "type": "Feature Layer",
   "geometryType": "esriGeometryPolygon",
   "supportsDynamicLegends": true
  },
  {
   "id": 2,
   "name": "CED_PT",
   "parentLayerId": -1,
   "defaultVisibility": false,
   "subLayerIds": null,
   "minScale": 0,
   "maxScale": 0,
   "type": "Feature Layer",
   "geometryType": "esriGeometryPoint",
   "supportsDynamicLegends": true
  }
 ],
 "tables": [],
 "spatialReference": {
  "wkid": 102100,
  "latestWkid": 3857,
  "xyTolerance": 0.001,
  "zTolerance": 0.001,
  "mTolerance": 0.001,
  "falseX": -20037700,
  "falseY": -30241100,
  "xyUnits": 10000,
  "falseZ": -100000,
  "zUnits": 10000,
  "falseM": -100000,
  "mUnits": 10000
 },
 "singleFusedMapCache": true,
 "tileInfo": {
  "rows": 256,
  "cols": 256,
  "dpi": 96,
  "format": "PNG",
  "compressionQuality": 0,
  "origin": {
   "x": -2.0037508342787E7,
   "y": 2.0037508342787E7
  },
  "spatialReference": {
   "wkid": 102100,
   "latestWkid": 3857,
   "xyTolerance": 0.001,
   "zTolerance": 0.001,
   "mTolerance": 0.001,
   "falseX": -20037700,
   "falseY": -30241100,
   "xyUnits": 1.4892314192838538E8,
   "falseZ": -100000,
   "zUnits": 10000,
   "falseM": -100000,
   "mUnits": 10000
  },
  "lods": [
   {
    "level": 0,
    "resolution": 156543.033928,
    "scale": 5.91657527591555E8
   },
   {
    "level": 1,
    "resolution": 78271.5169639999,
    "scale": 2.95828763795777E8
   },
   {
    "level": 2,
    "resolution": 39135.7584820001,
    "scale": 1.47914381897889E8
   },
   {
    "level": 3,
    "resolution": 19567.8792409999,
    "scale": 7.3957190948944E7
   },
   {
    "level": 4,
    "resolution": 9783.93962049996,
    "scale": 3.6978595474472E7
   },
   {
    "level": 5,
    "resolution": 4891.96981024998,
    "scale": 1.8489297737236E7
   },
   {
    "level": 6,
    "resolution": 2445.98490512499,
    "scale": 9244648.868618
   },
   {
    "level": 7,
    "resolution": 1222.99245256249,
    "scale": 4622324.434309
   },
   {
    "level": 8,
    "resolution": 611.49622628138,
    "scale": 2311162.217155
   },
   {
    "level": 9,
    "resolution": 305.748113140558,
    "scale": 1155581.108577
   },
   {
    "level": 10,
    "resolution": 152.874056570411,
    "scale": 577790.554289
   },
   {
    "level": 11,
    "resolution": 76.4370282850732,
    "scale": 288895.277144
   },
   {
    "level": 12,
    "resolution": 38.2185141425366,
    "scale": 144447.638572
   },
   {
    "level": 13,
    "resolution": 19.1092570712683,
    "scale": 72223.819286
   }
  ]
 },
 "storageInfo": {
  "storageFormat": "esriMapCacheStorageModeCompactV2",
  "packetSize": 128
 },
 "initialExtent": {
  "xmin": 1.0686671116154265E7,
  "ymin": -5916377.298219686,
  "xmax": 1.8701674453269962E7,
  "ymax": -598607.9389850269,
  "spatialReference": {
   "cs": "pcs",
   "wkid": 102100
  }
 },
 "fullExtent": {
  "xmin": 1.0777612616099998E7,
  "ymin": -5425372.869100001,
  "xmax": 1.870145571E7,
  "ymax": -1022048.4712999985,
  "spatialReference": {
   "cs": "pcs",
   "wkid": 102100
  }
 },
 "datesInUnknownTimezone": false,
 "minScale": 0,
 "maxScale": 72223.819286,
 "units": "esriMeters",
 "supportedImageFormatTypes": "PNG32,PNG24,PNG,JPG,DIB,TIFF,EMF,PS,PDF,GIF,SVG,SVGZ,BMP",
 "documentInfo": {
  "Title": "CED_2016_AUST",
  "Author": "",
  "Comments": "Commonwealth Electoral Divisions (CED) are an ABS approximation of Australian Electoral Commission (AEC) electoral division boundaries. An Australian Electoral Commission electoral division boundary is an area legally prescribed for the purpose of returning one member to the House of Representatives, Australia's Federal Lower House of Parliament. Boundaries are based upon the Australian Electoral Commission electoral division boundaries current on Census Night 9 August 2016. Commonwealth Electoral Divisions may change as the Australian Electoral Commission revise their boundaries. Where the Australian Electoral Commission revise their boundaries, the Commonwealth Electoral Divisions will be updated on an annual basis in July in conjunction with updates of other Non ABS Structures. Further information about these regions can be found in the following publication: Australian Statistical Geography Standard (ASGS): Volume 3 - Non ABS Structure, July 2016 (cat no. 1270.0.55.003). http://www.abs.gov.au/ausstats/abs@.nsf/mf/1270.0.55.003",
  "Subject": "Commonwealth Electoral Divisions developed by the ABS are an approximation of the official Commonwealth Electoral Divisions, developed by the Australian Electoral Commission, using one or more Statistical Area Level 1 (SA1). Each SA1 has been allocated once to a Commonwealth Electoral Division based on the largest population contribution. It should be noted that where a SA1 covers two or more Commonwealth Electoral Division, the SA1 can only be allocated to one electorate. For the 2016 ASGS, 150 Commonwealth Electoral Divisions have been defined to cover the whole of geographic Australia. These do not generally cross State and Territory borders but there are three exceptions. Norfolk Island is included in the Australia Capital Territory electorate of Canberra; Jervis Bay Territory is included in the Australian Capital Territory electorate of Fraser; and the Territories of Christmas Island and Cocos (Keeling) Islands are included in the Northern Territory electorate of Lingiari.",
  "Category": "",
  "Version": "3.2.0",
  "AntialiasingMode": "Fast",
  "TextAntialiasingMode": "Force",
  "Keywords": "Australia,ASGS,ABS,BOUNDARIES - Statistical,STATISTICAL GEOGRAPHY"
 },
 "supportsQueryDomains": true,
 "capabilities": "Map,Query,Data",
 "supportedQueryFormats": "JSON, geoJSON, PBF",
 "exportTilesAllowed": false,
 "referenceScale": 0.0,
 "supportsDatumTransformation": true,
 "archivingInfo": {
  "supportsHistoricMoment": false
 },
 "supportsClipping": true,
 "supportsSpatialFilter": true,
 "supportsTimeRelation": true,
 "supportsQueryDataElements": true,
 "mapUnits": {
  "uwkid": 9001
 },
 "maxRecordCount": 2000,
 "maxImageHeight": 4096,
 "maxImageWidth": 4096,
 "supportedExtensions": "FeatureServer, KmlServer, OGCFeatureServer, WFSServer, WMSServer",
 "serviceItemId": "7830326b61bb42eebf85e4715bae76e7"
}
