{
 "currentVersion": 11.5,
 "cimVersion": "3.5.0",
 "serviceDescription": "Indigenous Regions (IREGs) are large geographic areas built from whole Indigenous Areas. Changes to Indigenous Regions are determined through consultation with the Centre for Aboriginal and Torres Strait Islander Statistics based on statistical and community requirements. Further information about these regions can be found in the following publication: Australian Statistical Geography Standard (ASGS) Edition 3 https://www.abs.gov.au/statistics/standards/australian-statistical-geography-standard-asgs-edition-3/jul2021-jun2026",
 "mapName": "Map",
 "description": "Indigenous Regions (IREGs) are large geographic areas built from whole Indigenous Areas. Changes to Indigenous Regions are determined through consultation with the Centre for Aboriginal and Torres Strait Islander Statistics based on statistical and community requirements. Further information about these regions can be found in the following publication: Australian Statistical Geography Standard (ASGS) Edition 3 https://www.abs.gov.au/statistics/standards/australian-statistical-geography-standard-asgs-edition-3/jul2021-jun2026",
 "copyrightText": "Unless otherwise noted, content is licensed under a Creative Commons Attribution4.0 International (CC BY 4.0)",
 "supportsDynamicLayers": true,
 "layers": [
  {
   "id": 0,
   "name": "IREG",
   "parentLayerId": -1,
   "defaultVisibility": true,
   "subLayerIds": null,
   "minScale": 0,
   "maxScale": 0,
   "type": "Feature Layer",
   "geometryType": "esriGeometryPolygon",
   "supportsDynamicLegends": true
  },
  {
   "id": 1,
   "name": "IREG_GEN",
   "parentLayerId": -1,
   "defaultVisibility": false,
   "subLayerIds": null,
   "minScale": 0,
   "maxScale": 0,
   "type": "Feature Layer",
   "geometryType": "esriGeometryPolygon",
   "supportsDynamicLegends": true
  },
  {
   "id": 2,
   "name": "IREG_PT",
   "parentLayerId": -1,
   "defaultVisibility": false,
   "subLayerIds": null,
   "minScale": 0,
   "maxScale": 0,
   "type": "Feature Layer",
   "geometryType": "esriGeometryMultipoint",
   "supportsDynamicLegends": true
  }
 ],
 "tables": [],
 "spatialReference": {
  "wkid": 102100,
  "latestWkid": 3857,
  "xyTolerance": 0.001,
  "zTolerance": 0.001,
  "mTolerance": 0.001,
  "falseX": -20037700,
  "falseY": -30241100,
  "xyUnits": 10000,
  "falseZ": -100000,
  "zUnits": 10000,
  "falseM": -100000,
  "mUnits": 10000
 },
 "singleFusedMapCache": true,
 "tileInfo": {
  "rows": 256,
  "cols": 256,
  "dpi": 96,
  "format": "PNG",
  "compressionQuality": 0,
  "origin": {
   "x": -2.0037508342787E7,
   "y": 2.0037508342787E7
  },
  "spatialReference": {
   "wkid": 102100,
   "latestWkid": 3857,
   "xyTolerance": 0.001,
   "zTolerance": 0.001,
   "mTolerance": 0.001,
   "falseX": -20037700,
   "falseY": -30241100,
   "xyUnits": 1.4892314192838538E8,
   "falseZ": -100000,
   "zUnits": 10000,
   "falseM": -100000,
   "mUnits": 10000
  },
  "lods": [
   {
    "level": 0,
    "resolution": 156543.033928,
    "scale": 5.91657527591555E8
   },
   {
    "level": 1,
    "resolution": 78271.5169639999,
    "scale": 2.95828763795777E8
   },
   {
    "level": 2,
    "resolution": 39135.7584820001,
    "scale": 1.47914381897889E8
   },
   {
    "level": 3,
    "resolution": 19567.8792409999,
    "scale": 7.3957190948944E7
   },
   {
    "level": 4,
    "resolution": 9783.93962049996,
    "scale": 3.6978595474472E7
   },
   {
    "level": 5,
    "resolution": 4891.96981024998,
    "scale": 1.8489297737236E7
   },
   {
    "level": 6,
    "resolution": 2445.98490512499,
    "scale": 9244648.868618
   },
   {
    "level": 7,
    "resolution": 1222.99245256249,
    "scale": 4622324.434309
   },
   {
    "level": 8,
    "resolution": 611.49622628138,
    "scale": 2311162.217155
   },
   {
    "level": 9,
    "resolution": 305.748113140558,
    "scale": 1155581.108577
   },
   {
    "level": 10,
    "resolution": 152.874056570411,
    "scale": 577790.554289
   },
   {
    "level": 11,
    "resolution": 76.4370282850732,
    "scale": 288895.277144
   },
   {
    "level": 12,
    "resolution": 38.2185141425366,
    "scale": 144447.638572
   },
   {
    "level": 13,
    "resolution": 19.1092570712683,
    "scale": 72223.819286
   }
  ]
 },
 "storageInfo": {
  "storageFormat": "esriMapCacheStorageModeCompactV2",
  "packetSize": 128
 },
 "initialExtent": {
  "xmin": 1.038438121111E7,
  "ymin": -5382717.461985001,
  "xmax": 1.9092872296690002E7,
  "ymax": -974088.9743150005,
  "spatialReference": {
   "wkid": 102100,
   "latestWkid": 3857,
   "xyTolerance": 0.001,
   "zTolerance": 0.001,
   "mTolerance": 0.001,
   "falseX": -20037700,
   "falseY": -30241100,
   "xyUnits": 10000,
   "falseZ": -100000,
   "zUnits": 10000,
   "falseM": -100000,
   "mUnits": 10000
  }
 },
 "fullExtent": {
  "xmin": 1.0686671116154263E7,
  "ymin": -5621521.486192066,
  "xmax": 1.8701674453269962E7,
  "ymax": -893463.7510126452,
  "spatialReference": {
   "wkid": 102100,
   "latestWkid": 3857,
   "xyTolerance": 0.001,
   "zTolerance": 0.001,
   "mTolerance": 0.001,
   "falseX": -20037700,
   "falseY": -30241100,
   "xyUnits": 10000,
   "falseZ": -100000,
   "zUnits": 10000,
   "falseM": -100000,
   "mUnits": 10000
  }
 },
 "datesInUnknownTimezone": false,
 "minScale": 0,
 "maxScale": 72223.819286,
 "units": "esriMeters",
 "supportedImageFormatTypes": "PNG32,PNG24,PNG,JPG,DIB,TIFF,EMF,PS,PDF,GIF,SVG,SVGZ,BMP",
 "documentInfo": {
  "Title": "Indigenous Regions \u2013 ASGS Ed. 3",
  "Author": "",
  "Comments": "Indigenous Regions (IREG) are large geographical areas based on historical boundaries. The larger population of Indigenous Regions enables highly detailed analysis. It is part of the Indigenous Structure, a geographical standard for the publication and analysis of statistics about the Aboriginal and/or Torres Strait Islander peoples of Australia. Statistical Area Level 1 (SA1s) aggregate to Indigenous Locations which aggregate to Indigenous Areas, and they in turn aggregate to Indigenous Regions. At each hierarchical level, all of Geographic Australia is covered without gaps or overlaps.The boundaries in the Indigenous Structure are built from whole SA1s. SA1s are designed with reference to language groups, information from people with local knowledge of certain communities, and transport networks to identify both remote and non-remote discrete communities and urban areas with a high usual resident Aboriginal and Torres Strait Islander population. In some cases, Aboriginal and Torres Strait Islander communities that are too small to be identified separately have been combined with other nearby and associated communities.Data and geography references Source data publication: Australian Statistical Geography Standard (ASGS) Edition 3 Geographic boundary information: Australian Statistical Geography Standard (ASGS) Edition 3 - Indigenous Regions Further information: Australian Statistical Geography Standard (ASGS) Edition 3 - Indigenous Structure Source: Australian Bureau of Statistics (ABS)Made possible by the Digital Atlas of Australia The Digital Atlas of Australia is a key Australian Government initiative being led by Geoscience Australia, highlighted in the Data and Digital Government Strategy. It brings together trusted datasets from across government in an interactive, secure, and easy-to-use geospatial platform. The Australian Bureau of Statistics (ABS) is working in partnership with Geoscience Australia to establish a set of web services to make ABS data available in the Digital Atlas of Australia. \tContact the Australian Bureau of Statistics \tEmail geography@abs.gov.au if you have any questions or feedback about this web service.\tSubscribe to get updates on ABS web services and geospatial products.Privacy at the Australian Bureau of StatisticsRead how the ABS manages personal information - ABS privacy policy.",
  "Subject": "Indigenous Regions are large geographical areas based on historical boundaries. The larger population of Indigenous Regions enables highly detailed analysis.",
  "Category": "",
  "Version": "3.5.0",
  "AntialiasingMode": "None",
  "TextAntialiasingMode": "Force",
  "Keywords": "Australia,ABS,ASGS,BOUNDARIES - Statistical,STATISTICAL GEOGRAPHY"
 },
 "supportsQueryDomains": true,
 "capabilities": "Map,Query,Data",
 "supportedQueryFormats": "JSON, geoJSON, PBF",
 "exportTilesAllowed": false,
 "referenceScale": 0.0,
 "supportsDatumTransformation": true,
 "archivingInfo": {
  "supportsHistoricMoment": false
 },
 "supportsClipping": true,
 "supportsSpatialFilter": true,
 "supportsTimeRelation": true,
 "supportsQueryDataElements": true,
 "mapUnits": {
  "uwkid": 9001
 },
 "maxSelectionCount": 2000,
 "maxRecordCount": 2000,
 "maxImageHeight": 4096,
 "maxImageWidth": 4096,
 "supportedExtensions": "FeatureServer, KmlServer, OGCFeatureServer",
 "resampling": false,
 "serviceItemId": "0d8d0101f8c74944ab7e492eee78a8f3"
}
